BEGIN:VCALENDAR
VERSION:2.0
PRODID:-//Seachdain Gàidhlig Dhùn Èideann - ECPv6.0.10//NONSGML v1.0//EN
CALSCALE:GREGORIAN
METHOD:PUBLISH
X-WR-CALNAME:Seachdain Gàidhlig Dhùn Èideann
X-ORIGINAL-URL:https://snagde.com
X-WR-CALDESC:Events for Seachdain Gàidhlig Dhùn Èideann
REFRESH-INTERVAL;VALUE=DURATION:PT1H
X-Robots-Tag:noindex
X-PUBLISHED-TTL:PT1H
BEGIN:VTIMEZONE
TZID:UTC
BEGIN:STANDARD
TZOFFSETFROM:+0000
TZOFFSETTO:+0000
TZNAME:UTC
DTSTART:20260101T000000
END:STANDARD
END:VTIMEZONE
BEGIN:VEVENT
DTSTART;TZID=UTC:20260227T090000
DTEND;TZID=UTC:20260227T100000
DTSTAMP:20260423T174359
CREATED:20260126T144038Z
LAST-MODIFIED:20260126T144038Z
UID:605-1772182800-1772186400@snagde.com
SUMMARY:Leugh le Linda BBC | Leugh le Linda BBC
DESCRIPTION:Ann an co-obrachadh le Bun-Sgoil Taobh na Pàirce\, tha Linda bho BBC Alba a’ tighinn a chèilidh air a’ Chròileagan airson Seachdain na Gàidhlig. Seisean inntinneach le òrain is sgeulachdan don fheadhainn bheaga. \nIn collaboration with Bun-Sgoil Taobh na Pàirce\, Linda from BBC Alba is coming to visit Cròileagan during Gaelic Week. An exciting session with songs and stories for little ones. \nGàidhlig | Gaelic \nSaor an-asgaidh. Clàradh air Eventbrite. | Free. Registration on Eventbrite. \n09:15-09:45 \nFiosrachadh as ùire air / Updates on: Cròileagan Dhùn Èideann | Facebook
URL:https://snagde.com/event/leugh-le-linda-bbc-leugh-le-linda-bbc/
LOCATION:Bun Sgoil Taobh na Pàirce\, 139 Bonnington Road\, Edinburgh\, EH6 5NQ\, United Kingdom
END:VEVENT
BEGIN:VEVENT
DTSTART;TZID=UTC:20260227T100000
DTEND;TZID=UTC:20260227T120000
DTSTAMP:20260423T174359
CREATED:20260126T144048Z
LAST-MODIFIED:20260126T144048Z
UID:667-1772186400-1772193600@snagde.com
SUMMARY:Buidheann Leughaidh Gàidhlig | Gaelic Reading Group
DESCRIPTION:Bidh sinn a’ coinneachadh gach cola-deug anns an leabharlann ann an Stockbridge\, Dun Eideann. Bidh an ath choinneamh Dihaoine 27mh Gearran. Aig an àm-sa bidh sinn a’ leughadh AN LÀMH A BHEIR le Seonaidh Charity. Bidh sinn a’ leughadh an còmhnaidh leabhraichen le sgrìobhadairean Gàidhlig. Bidh sinn ag obair còmhla air an teacsa. Fàilte air a h-uile duine! \nWe meet every fortnight in the library in Stockbridge\, Edinburgh. The next meeting will be Friday 27th February. We will be reading An Làmh a Bheir by Seonaidh Charity. We always read books by Gaelic writers. We’ll work together on the text. All welcome! \nGàidhlig is Beurla | Gaelic and English \nSaor an-asgaidh | Free
URL:https://snagde.com/event/buidheann-leughaidh-gaidhlig-gaelic-reading-group/
LOCATION:Stockbridge Library\, 11 Hamilton Place\, Edinburgh\, EH3 5BA
END:VEVENT
BEGIN:VEVENT
DTSTART;TZID=UTC:20260227T133000
DTEND;TZID=UTC:20260227T160000
DTSTAMP:20260423T174359
CREATED:20260126T144058Z
LAST-MODIFIED:20260126T144058Z
UID:607-1772199000-1772208000@snagde.com
SUMMARY:Faigh a-mach mun Ghàidhlig | Find Out Fridays
DESCRIPTION:Faigh a-mach mu eachdraidh is cultar na Gàidhlig aig an Spark Cart anns a’ Ghailearaidh Mhòr aig Taigh-tasgaidh Nàiseanta na h-Alba. Bidh luchd-obrach an Taigh-tasgaidh ann gus innse dhuibh sgeulachdan mu chuid de na rudan Gàidhlig as inntinniche sna cruinneachaidhean aca. \nFind out about Gaelic history and culture at the Spark Cart in the National Museum’s Grand Gallery. Museum staff will be on hand to share stories of some of the most interesting Gaelic objects in their collections. \nBeurla | English \nSaor an-asgaidh | Free
URL:https://snagde.com/event/faigh-a-mach-mun-ghaidhlig-find-out-fridays/
LOCATION:National Museum of Scotland\, Chambers Street\, Edinburgh\, EH1 1JF\, United Kingdom
END:VEVENT
BEGIN:VEVENT
DTSTART;TZID=UTC:20260227T140000
DTEND;TZID=UTC:20260227T150000
DTSTAMP:20260423T174359
CREATED:20260126T144109Z
LAST-MODIFIED:20260126T144109Z
UID:609-1772200800-1772204400@snagde.com
SUMMARY:Anesu agus na Creutairean Uisge | Anesu and the Water Creatures
DESCRIPTION:Thigibh airson uair a thìde de sheanchas agus ceòl còmhla ris an ùghdar Tawana gus an leabhar ùr Gàidhlig aice do cloinn\, Anesu agus na Creutairean Uisge\, a chomharrachadh. Faigh a-mach mun turas càirdeis\, buinteanais\, agus culturail aig Anesu\, agus ionnsaich mun spiorad uisge Shìombaibe\, Njuzu. \nEnjoy an hour of storytelling and music with author Tawana to celebrate her new Gaelic children’s book Anesu agus na Creutairean Uisge. Hear Anesu’s journey of friendship\, belonging\, and cultural discovery come to life\, and learn about the Zimbabwean water spirit Njuzu. \nGàidhlig agus Beurla | Gaelic and English \nSaor an-asgaidh ach feumaidh sibh clàradh. | Free but registration required.
URL:https://snagde.com/event/anesu-agus-na-creutairean-uisge-anesu-and-the-water-creatures/
LOCATION:National Library of Scotland\, George IV Bridge\, Edinburgh\, EH1 1EW
ATTACH;FMTTYPE=image/png:https://snagde.com/wp-content/uploads/2026/01/Tawana-A-Heywood.png
END:VEVENT
BEGIN:VEVENT
DTSTART;TZID=UTC:20260227T170000
DTEND;TZID=UTC:20260227T190000
DTSTAMP:20260423T174359
CREATED:20260126T144119Z
LAST-MODIFIED:20260126T144119Z
UID:636-1772211600-1772218800@snagde.com
SUMMARY:Oidhche Rannsachadh tro Ghàidhlig
DESCRIPTION:’S e cothrom air leth a th’ anns an tachartas seo gus ionnsachadh mu rannsachadh ùr tro Ghàidhlig. Bidh an Oidhche Rannsachadh a’ toirt a-steach òraidean le dithis neach-rannsachaidh cliùiteach agus òraidean goirid le luchd-rannsachaidh PhD\, Mhaighstireachd agus tràth-dhreuchdail. Thig còmhla rinn airson rannsachadh inntinneach thar raointean bho na saidheansan sòisealta\, daonnachdan agus STEM. \nThis event is an opportunity to discover new research through Gaelic. The Oidhche Rannsachadh will include talks from two prominent researchers and lightning talks from PhD\, Master and early career researchers. Join for fascinating research across fields from social sciences\, Humanities and STEM. \nGàidhlig | Gaelic \nSaor an-asgaidh ach feumaidh sibh clàradh. | Free but registration required.
URL:https://snagde.com/event/oidhche-rannsachadh-tro-ghaidhlig/
LOCATION:Scottish Storytelling Centre\, 43-45 High Street\, Edinburgh\, EH1 1SR\, United Kingdom
ATTACH;FMTTYPE=image/png:https://snagde.com/wp-content/uploads/2026/01/Sorcha-MacIntyre-e1767889107232.png
END:VEVENT
BEGIN:VEVENT
DTSTART;TZID=UTC:20260227T193000
DTEND;TZID=UTC:20260227T220000
DTSTAMP:20260423T174359
CREATED:20260126T144129Z
LAST-MODIFIED:20260126T144129Z
UID:612-1772220600-1772229600@snagde.com
SUMMARY:Guid Crack Storytelling Session: To the Gaels with Love
DESCRIPTION:Thigibh còmhla ris an sgeulaiche\, Caroline Carmichael\, gus sgeulachdan is cultar na Gàidhlig a chomharrachadh. Bidh sgeulachdan beairteach is measgaichte mu ghaisgich is creutairean fionn-sgeulach\, a tha air brosnachadh a thoirt do ghinealaichean do sgeulaichean\, luchd-ciùil\, bàird\, is luchd-ealain. Pàirt dhen chluba seanchais mìosail ann an Dùn Èideann\, le àrd-ùrlar fosgailte. Fosgailte dhan a h-uile. \nJoin guest storyteller Caroline Carmichael for a celebration of Gaelic stories and culture. Expect rich and varied tales of warriors and mythical creatures\, which have inspired generations of storytellers\, musicians\, poets and artists. Part of Edinburgh’s monthly storytelling club with the usual open-floor section. Open to Gaelic and non-Gaelic speakers. \nGàidhlig agus Beurla | Gaelic and English \nSaor an-asgaidh | Free
URL:https://snagde.com/event/guid-crack-storytelling-session-to-the-gaels-with-love/
LOCATION:The Waverley Bar\, 3-5 Mary's Street\, Edinburgh\, EH1 1TA
ATTACH;FMTTYPE=image/png:https://snagde.com/wp-content/uploads/2026/01/Guid-Crack-ScottishStorytelling-Centre.png
END:VEVENT
END:VCALENDAR