BEGIN:VCALENDAR
VERSION:2.0
PRODID:-//Seachdain Gàidhlig Dhùn Èideann - ECPv6.0.10//NONSGML v1.0//EN
CALSCALE:GREGORIAN
METHOD:PUBLISH
X-WR-CALNAME:Seachdain Gàidhlig Dhùn Èideann
X-ORIGINAL-URL:https://snagde.com
X-WR-CALDESC:Events for Seachdain Gàidhlig Dhùn Èideann
REFRESH-INTERVAL;VALUE=DURATION:PT1H
X-Robots-Tag:noindex
X-PUBLISHED-TTL:PT1H
BEGIN:VTIMEZONE
TZID:UTC
BEGIN:STANDARD
TZOFFSETFROM:+0000
TZOFFSETTO:+0000
TZNAME:UTC
DTSTART:20240101T000000
END:STANDARD
END:VTIMEZONE
BEGIN:VEVENT
DTSTART;TZID=UTC:20260224T160000
DTEND;TZID=UTC:20260224T170000
DTSTAMP:20260423T223120
CREATED:20260126T143734Z
LAST-MODIFIED:20260126T143734Z
UID:591-1771948800-1771952400@snagde.com
SUMMARY:Cothrom Còmhraidh | Gaelic Conversation Circle
DESCRIPTION:Thig còmhla rinn anns an Ionad Ghoireasan airson Cearcall Còmhraidh air a stiùireadh le Catherine Tinney\, tidsear Gàidhlig aig Ionad an Fhoghlaim Fhosgailte. ’S e àite fàilteach\, taiceil a bhios ann gus do chuid Ghàidhlig a chleachdadh is a leasachadh – cha leig thu leas clàradh. Thig is gabh pàirt ann! Tha fàilte ro gach ìre de Ghàidhlig. \nJoin us in the Resource Centre for our Gaelic Conversation Circle\, led by Catherine Tinney\, Gaelic teacher at the Centre for Open Learning (COL). It’s a welcoming\, supportive space to practise and develop your Gaelic language skills – no booking needed. Just drop in and take part. All levels welcome. \nGàidhlig | Gaelic \nSaor an-asgaidh | Free
URL:https://snagde.com/event/cothrom-comhraidh-gaelic-conversation-circle/
LOCATION:Resource Centre\, Paterson’s Land\, Holyrood Road\, Edinburgh\, EH8 8AQ
END:VEVENT
BEGIN:VEVENT
DTSTART;TZID=UTC:20260224T123000
DTEND;TZID=UTC:20260224T133000
DTSTAMP:20260423T223120
CREATED:20260126T143715Z
LAST-MODIFIED:20260126T143715Z
UID:587-1771936200-1771939800@snagde.com
SUMMARY:Through the Shortbread Tin and Beyond
DESCRIPTION:Òraid air a stiùireadh le taisbeantas air fionn-sgeul\, dearbh-aithne\, agus a’ mheall litreachais as motha a-riamh\, na dàin Oiseanach le Seumas MacMhuirich\, a chaidh fhoillseachadh ann an 1746. Bidh Màrtainn O’Connor ag innse dhuinn mun taisbeanadh aige le Taigh-cluiche Nàiseanta na h-Alba\, Through the Shortbread Tin\, a’ dèanamh ceangal eadar fionn-sgeul Oisean ri turas pearsanta Mhàrtainn fhèin leis an dearbh-aithne Albannach/Gàidhealach aige. \nA performance-led talk on myth\, identity and the greatest literary hoax of all time James Macpherson’s 1746 Ossian poems. Martin O’Connor will speak about his 2025 National Theatre of Scotland performance Through the Shortbread Tin linking Ossian’s myth to Martin’s own personal journey with his Scottish/Gaelic identity. \nBeurla | English \nSaor an-asgaidh\, ach feumaidh sibh clàradh. | Free but registration required. \n12:45-13:30 \nHawthorn Lecture Theatre\, National Gallery of Scotland (18 The Mound) \nIn person tickets  \nOnline tickets  
URL:https://snagde.com/event/through-the-shortbread-tin-and-beyond/
LOCATION:National Galleries of Scotland: National\, The Mound\, Edinburgh\, EH2 2EL\, United Kingdom
ATTACH;FMTTYPE=image/jpeg:https://snagde.com/wp-content/uploads/2026/01/Through-the-Shortbread-Tin-Production-Photography-Photo-credit-Sally-Jubb-08-Grainne-Rr-scaled.jpg
END:VEVENT
BEGIN:VEVENT
DTSTART;TZID=UTC:20260223T110000
DTEND;TZID=UTC:20260223T150000
DTSTAMP:20260423T223120
CREATED:20260126T143614Z
LAST-MODIFIED:20260218T161957Z
UID:584-1771844400-1771858800@snagde.com
SUMMARY:Gàidhlig aig an Taigh-tasgaidh | Gaelic at the National Museum
DESCRIPTION:Dà chuirm-ciùil aig Taigh-tasgaidh Nàiseanta na h-Alba. | Two drop-in concerts at the National Museum of Scotland. \nThig còmhla rinn dhan Taigh Tasgaidh airson cuirm-chiùil saor an-asgaidh le ceòladairean air a tha sinn uile eòlach. \nLeis an tachartas seo bidh sinn a’ comharrachadh Seachdain na Gàidhlig 2026 agus bidh fàilte air a h-uile duine tighinn ann gus èisteachd ri Innes\, Ceitlin agus Ellen. \nBidh cothroman agaibh ionnsachadh cuid de na faclan bhuapa agus cabadaich gu neo-fhoirmeil le caraidean bhon sgioba aig Bothan Dhùn Èideann. \n\nCelebrate World Gaelic Week 2026 at the National Museum of Scotland with a free concert. \nJoin guitarist Innes White and singers Ceitlin Lilly and Ellen MacDonald to hear Gaelic songs in Hawthornden Court. You will also have the chance to learn some of the words and join in. \nAll our musicians are members of the band ‘Sian’\, known for their creative harmonies and imaginative musical arrangements. \n\nGàidhlig | Gaelic \nSaor an-asgaidh | Free \n11:00-11:45 agus/and 13:00-13:45 \nHawthornden Court \nBarrachd fiosrachaidh mu na tachartasan | More information about the events \n 
URL:https://snagde.com/event/gaidhlig-aig-an-taigh-tasgaidh-gaelic-at-the-national-museum/
LOCATION:National Museum of Scotland\, Chambers Street\, Edinburgh\, EH1 1JF\, United Kingdom
ATTACH;FMTTYPE=image/jpeg:https://snagde.com/wp-content/uploads/2026/01/Gaidhlig-aig-an-Taigh-tasgaidh-Bothan-DunEideann.jpeg
END:VEVENT
BEGIN:VEVENT
DTSTART;TZID=UTC:20260223T110000
DTEND;TZID=UTC:20260223T113000
DTSTAMP:20260423T223120
CREATED:20260126T143646Z
LAST-MODIFIED:20260126T143646Z
UID:626-1771844400-1771846200@snagde.com
SUMMARY:Seisean Ciùil Cròileagan | Cròileagan Music Session
DESCRIPTION:Seisean ciùil sònraichte air a chuir air dòigh le fear de stiùirichean-cluiche na Cròileagain\, airson Seachdain na Gàidhlig. Seisean spòrsail dha clann fo aois 5 bliadhna. Nach tig sibh ’son fuaim a dhèanamh! | A special music session hosted by one of Cròileagan’s playleaders\, for Seachdain na Gàidhlig. A fun session for children under 5 years old. Let’s make some noise. \nGàidhlig | Gaelic \nSaor an-asgaidh | Free entry \nChan eil na h-uairean dearbhte fhathast. Gheibh thu fiosrachadh as ùire air an duilleag Facebook aig Cròileagan. | Times are not confirmed yet. You will find updates on the Cròileagan Facebook page. \nCròileagan Dhùn Èideann air Facebook 
URL:https://snagde.com/event/seisean-ciuil-croileagan-croileagan-music-session/
LOCATION:Bun Sgoil Taobh na Pàirce\, 139 Bonnington Road\, Edinburgh\, EH6 5NQ\, United Kingdom
END:VEVENT
BEGIN:VEVENT
DTSTART;TZID=UTC:20260223T093000
DTEND;TZID=UTC:20260223T110000
DTSTAMP:20260423T223120
CREATED:20260126T143523Z
LAST-MODIFIED:20260218T163957Z
UID:624-1771839000-1771844400@snagde.com
SUMMARY:Madainn Cofaidh agus Cèic | Coffee Morning and Bake Sale
DESCRIPTION:Thigibh còmhla rinn airson a’ chiad fhèill cofaidh is bèicearachd aig a’ Chròileagan. Cothrom bruidhinn ri daoine eile fhad ’s a tha thu a’ gabhail cèic is cupa. \nCome along to the very first Cròileagan Coffee Morning and Bake Sale. An opportunity to chat to others while enjoying a cake and cuppa. \nGàidhlig is Beurla | Gaelic and English \nSaor an-asgaidh | Free entry \n9.30 – 11.00. Gheibh thu fiosrachadh as ùire air an duilleag Facebook aig Cròileagan. | You will find update on the Cròileagan Facebook page. \nCròileagan Dhùn Èideann air Facebook
URL:https://snagde.com/event/madainn-cofaidh-agus-ceic-coffee-morning-and-bake-sale/
LOCATION:Bun Sgoil Taobh na Pàirce\, 139 Bonnington Road\, Edinburgh\, EH6 5NQ\, United Kingdom
END:VEVENT
BEGIN:VEVENT
DTSTART;TZID=UTC:20250228T103000
DTEND;TZID=UTC:20250228T110000
DTSTAMP:20260423T223120
CREATED:20250204T103144Z
LAST-MODIFIED:20250204T103144Z
UID:510-1740738600-1740740400@snagde.com
SUMMARY:Romance and Reality Pop-up Talk at National Galleries of Scotland
DESCRIPTION:Thig còmhla ris an Dr Patricia Allerston\, Leas-stiùiriche agus Àrd-ghlèidheadair\, Ealain Eòrpach & Albannach\, airson òraid anns an taisbeanadh Romance and Reality aig Gailearaidhean na h-Alba. \nJoin Dr Patricia Allerston\, Deputy Director and Chief Curator\, European & Scottish Art\, for a talk in the Romance and Reality display at the Scottish galleries. \nBeurla | English \nSaor an-asgaidh le tiocaidean | Free but ticketed
URL:https://snagde.com/event/romance-and-reality-pop-up-talk-at-national-galleries-of-scotland-2/
LOCATION:National Galleries of Scotland: National\, The Mound\, Edinburgh\, EH2 2EL\, United Kingdom
END:VEVENT
BEGIN:VEVENT
DTSTART;TZID=UTC:20250228T093000
DTEND;TZID=UTC:20250228T103000
DTSTAMP:20260423T223120
CREATED:20250204T103134Z
LAST-MODIFIED:20250204T103134Z
UID:537-1740735000-1740738600@snagde.com
SUMMARY:Cafaidh Gàidhlig | Community Coffee Morning
DESCRIPTION:Saoil nach tig sibh gu madainn air leth aig Bun-sgoil Taobh na Pàirce? Bidh cothrom ann do mhuinntir Dhùn Èideann tighinn còmhla san sgoil airson srùbag is cabadaich. \nWhy not come along to a great wee coffee morning at Taobh na Pàirce Primary School? Edinburgh residents are welcome to come along to the school of a cuppa and a chat. \nGàidhlig | Gaelic \nSaor an-asgaidh | Free
URL:https://snagde.com/event/cafaidh-gaidhlig-community-coffee-morning/
LOCATION:Bun Sgoil Taobh na Pàirce\, 139 Bonnington Road\, Edinburgh\, EH6 5NQ\, United Kingdom
END:VEVENT
BEGIN:VEVENT
DTSTART;TZID=UTC:20250226T190000
DTEND;TZID=UTC:20250226T203000
DTSTAMP:20260423T223120
CREATED:20250204T102952Z
LAST-MODIFIED:20250204T102952Z
UID:540-1740596400-1740601800@snagde.com
SUMMARY:Alba is Èirinn: Bùth-obrach Òrain is Sgeulachdan na Fèinne | Scotland & Ireland: Stories and Songs of the Fianna Workshop
DESCRIPTION:Bidh an seinneadair Gàidhlig\, Màiri NicIlleMhaoil\, agus an sgeulaiche is seinneadair Gaeilge\, Gráinne Holland\, a’ rùrachadh òrain is sgeulachdan Fhinn Mhic Cumhaill is a chòmhlan\, an Fhèinne\, a tha nan phàirt mhòr den dualchas Gàidhlig ann an Alba is Èirinn. \nAnns a’ bhùth-obrach seo\, bidh Màiri is Gràinne a’ gabhail òrain is ag innse sgeulachdan mu dheidhinn cuid de na caractaran san dualchas\, le prìomhachas air an sgeulachd tiamhaidh aig  Diarmaid is Gràinne. \nThèid an tachartas seo a chumail air loidhne.   ‘s e tachartas trì-chànanach a tha seo\, a thèid a chumail tro mheadhan na Beurla le sgeulachdan is òrain sa Ghàidhlig is sa Ghaeilge.  Fàilte ron a h-uile! \n– \nJoin Scottish Gaelic singer Màiri MacMillan and Irish Gaelic storyteller and singer\, Gráinne Holland\, for an online workshop exploring songs and stories of Finn MacCool and his band of warriors\, the  Fianna\, which form part of the shared Gaelic cultural traditions of Scotland and Ireland. \nDuring this workshop\,  Màiri and Gráinne will explore a selection of songs and stories related to some of the key characters in the Finn tradition\, focussing primarily on Diarmaid and Grainne and their doomed love story. \nThis is a trilingual event which will be held through the medium of English\, with story and song content in Gaelic and Irish.  No prior knowledge of Scottish Gaelic or Irish is required to attend\, everyone welcome! \nGàidhlig\, Gaeilge agus Beurla | Gaelic\, Irish and English \n£3/£5/£8 (pay what you can)
URL:https://snagde.com/event/alba-is-eirinn-buth-obrach-orain-is-sgeulachdan-na-feinne-scotland-ireland-stories-and-songs-of-the-fianna-workshop/
LOCATION:Online
ATTACH;FMTTYPE=image/jpeg:https://snagde.com/wp-content/uploads/2025/01/Seachdain-na-Gaidhlig-poster-TRACS-jpg.jpg
END:VEVENT
BEGIN:VEVENT
DTSTART;TZID=UTC:20250226T170000
DTEND;TZID=UTC:20250226T183000
DTSTAMP:20260423T223120
CREATED:20250204T103007Z
LAST-MODIFIED:20250217T141845Z
UID:533-1740589200-1740594600@snagde.com
SUMMARY:A' Ceangal Chruinneachaidhean: Beul-Aithris Ghàidhlig | Connecting Collections: Gaelic Oral Tradition
DESCRIPTION:Bheir an tachartas seo sùil air beul-aithris na Gàidhlig ann an làmh-sgrìobhainnean agus clàraidhean-fuaim a chaidh an clàradh bhon ochdamh deug linn chun latha an-diugh. Nam measg\, bidh obair bho Chruinneachadh MhicIlleMhìcheil-MhicBhàtair\, Cruinneachadh Marjory Kennedy Fraser agus Tasglann Sgoil Eòlais na h-Alba. Bidh biadh is deoch rim faighinn. \nThis event will explore Gaelic oral tradition through a presentation/display of handwritten manuscripts and audio recordings ranging from the 18th century to the present day. It will include material from the Carmichael-Watson Collection\, the Marjory Kennedy Fraser Collection and the School of Scottish Studies Archives. Refreshments will be available. \nPlease Register on Eventbrite: https://www.eventbrite.co.uk/e/1207282888619 \nGàidhlig is Beurla | English and Gaelic \nSaor an-asgaidh le tiocaidean | Free but ticketed \n17:15-18:30
URL:https://snagde.com/event/a-ceangal-chruinneachaidhean-beul-aithris-ghaidhlig-connecting-collections-gaelic-oral-tradition/
LOCATION:Heritage Collections\, The University of Edinburgh Main Library (6th floor)\, Edinburgh\, EH8 9LJ\, United Kingdom
END:VEVENT
BEGIN:VEVENT
DTSTART;TZID=UTC:20250225T110000
DTEND;TZID=UTC:20250225T120000
DTSTAMP:20260423T223120
CREATED:20250204T102223Z
LAST-MODIFIED:20250204T102223Z
UID:478-1740481200-1740484800@snagde.com
SUMMARY:Print Room Session at the National Galleries of Scotland
DESCRIPTION:Cothrom ainneamh sùil a thoirt air obraichean Uilleim Mhic an t-Sagairt air pàipear\, stuthan tasglainn\, nam measg\, clàr Iain Òg Ìle. \nA rare opportunity to look at William McTaggart works on paper and archive material as well as the John Frances Campbell of Islay album. \nBeurla | English \nSaor an-asgaidh le tiocaidean | Free but ticketed \n11:00-12:00 agus/and 14:00-15:00
URL:https://snagde.com/event/print-room-session-at-the-national-galleries-of-scotland/
LOCATION:National Galleries of Scotland: Modern Two\, 73 Belford Road\, Edinburgh\, EH4 3DS\, United Kingdom
END:VEVENT
BEGIN:VEVENT
DTSTART;TZID=UTC:20250224T190000
DTEND;TZID=UTC:20250224T203000
DTSTAMP:20260423T223120
CREATED:20250210T120319Z
LAST-MODIFIED:20250210T121022Z
UID:566-1740423600-1740429000@snagde.com
SUMMARY:Translating Gaelic Poetry with Niall O' Gallagher
DESCRIPTION:Còmhradh eadar Niall O’ Gallagher (Sgrìobhadair Gàidhlig air Mhuinntireas aig Oilthigh Dhùn Èideann)\, agus sgrìobhadairean Garry Mackenzie agus Taylor Strickland. Bidh iad a’ bruidhinn air modhan-obrachaidh san obair aca ag eadar-theangachadh bàrdachd Ghàidhlig. \nAn in-person conversation between Niall O’Gallagher (Gaelic Writer in Residence) and writers Garry Mackenzie and Taylor Strickland. Together\, they will discuss processes and methods in their work when translating Gaelic poems. \nBeurla | English \nSaor an-asgaidh | Free
URL:https://snagde.com/event/translating-gaelic-poetry-with-niall-o-gallagher/
LOCATION:The Project Room (1.06)\, 50 George Square\, Edinburgh\, EH8 9LH\, United Kingdom
ATTACH;FMTTYPE=image/png:https://snagde.com/wp-content/uploads/2025/02/Translating-Gaelic-Poetry-900-x-400.png
END:VEVENT
BEGIN:VEVENT
DTSTART;TZID=UTC:20240221T193000
DTEND;TZID=UTC:20240221T213000
DTSTAMP:20260423T223120
CREATED:20240208T160823Z
LAST-MODIFIED:20240213T091609Z
UID:370-1708543800-1708551000@snagde.com
SUMMARY:Mother Tongue: Mither Màthair Maти Ana
DESCRIPTION:Màthair. Tric\, ’s i a’ chiad fhacal a dh’ionnsaicheas sinn ann an cànan nan sinnsearan. Ach dè tha a’ cumadh nam faclan a bhios sinn a’ cleachdadh airson ar sgeulachdan innse agus ar n-òrain a ghabhail mar a bhios sinn a’ fàs suas? Thig còmhla rinn air Latha Eadar-nàiseanta Cànan na Màthraichean airson cabaret de sgeulachdan\, òrain is bàrdachd ann an Gàidhlig\, Albais\, BSL\, Ucràinis agus Beurla. \nAnn an cuideachd: Elzara Batalova\, Màrtainn Mac an t-Saoir\, Olga Niekrasova\, Tim Porteus & Evie Waddell. \nMother. Often the first word we learn in the languages of our elders. But what shapes the words we use to tell our stories and sing our songs as we grow? Join us on International Mother Language Day for a cabaret of story\, song and poetry in Gaelic\, Scots\, BSL\, Ukranian and English. \nFeaturing: Elzara Batalova\, Martin MacIntyre\, Olga Niekrasova\, Tim Porteus & Evie Waddell. \nGàidhlig\, Albais\, Ucràinis\, BSL\, Beurla | Gaelic\, Scots\, Ukrainian\, BSL\, English \n£10 (£8 concession)
URL:https://snagde.com/event/mither-mathair-ma%d1%82%d0%b8-ana/
LOCATION:Scottish Storytelling Centre\, 43-45 High Street\, Edinburgh\, EH1 1SR\, United Kingdom
ATTACH;FMTTYPE=image/jpeg:https://snagde.com/wp-content/uploads/2024/02/Mither-Mathair.jpg
END:VEVENT
BEGIN:VEVENT
DTSTART;TZID=UTC:20240220T140000
DTEND;TZID=UTC:20240220T153000
DTSTAMP:20260423T223120
CREATED:20240208T160622Z
LAST-MODIFIED:20240208T160622Z
UID:350-1708437600-1708443000@snagde.com
SUMMARY:Sgrìonadh Film: ‘Calman nan Loch’ | Film Screening: ‘Calman nan Loch’
DESCRIPTION:Film aithriseach 30m a tha ag innse mu chàirdeas 15 bliadhna eadar neach-ealain agus coimhearsnachd Ghàidhlig anns na h-Eileanan an Iar. Thèid ath-fhuaimneachadh seinn nan Salm air muir\, na bàtaichean seòlaidh traidiseanta agus agallamhan ris na seann daoine gar thoirt air turas gaoil\, call agus creideimh ach le dùthchas agus beartas an t-saoghail Ghàidhlig an còmhnaidh na bhunait. \nThe haunting sound of Gaelic psalms\, the elegant traditional boats and interviews with elders in the community carry us on a journey of love\, loss and faith\, all underpinned by their “dùthchas”. The film is in Scottish Gaelic with an opening and closing voiceover in the narrators native Irish Gaelic. Subtitles in English throughout. \nGàidhlig\, Gaeilge is Beurla | Gaelic\, Irish and English \nSaor an asgaidh | Free
URL:https://snagde.com/event/sgrionadh-film-calman-nan-loch-film-screening-calman-nan-loch/
LOCATION:Martin Hall\, New College\, Mound Place\, Edinburgh\, EH1 2LX\, United Kingdom
ATTACH;FMTTYPE=image/jpeg:https://snagde.com/wp-content/uploads/2024/01/Calman-nan-Loch.jpg
END:VEVENT
BEGIN:VEVENT
DTSTART;TZID=UTC:20240219T180000
DTEND;TZID=UTC:20240219T220000
DTSTAMP:20260423T223120
CREATED:20240208T160559Z
LAST-MODIFIED:20240208T160559Z
UID:347-1708365600-1708380000@snagde.com
SUMMARY:Pop-up Gàidhealtachd
DESCRIPTION:Cothrom sàmhach\, sòisealta airson do chuid Ghàidhlig a chleachdadh agus gus barrachd fhaighinn a-mach mu chànan is chultar na Gàidhlig\, air a chumail san t-Seòmar-suidhe sa Photterrow. \nA relaxed\, social space for using your Gaelic and finding out more about Gaelic language and culture\, held in the Student Community Lounge in Potterrow. \nGàidhlig | Gaelic \nSaor an asgaidh | Free
URL:https://snagde.com/event/pop-up-gaidhealtachd/
LOCATION:Potterrow\, Bristo Square\, Edinburgh\, EH8 9BL\, United Kingdom
END:VEVENT
END:VCALENDAR