BEGIN:VCALENDAR
VERSION:2.0
PRODID:-//Seachdain Gàidhlig Dhùn Èideann - ECPv6.0.10//NONSGML v1.0//EN
CALSCALE:GREGORIAN
METHOD:PUBLISH
X-WR-CALNAME:Seachdain Gàidhlig Dhùn Èideann
X-ORIGINAL-URL:https://snagde.com
X-WR-CALDESC:Events for Seachdain Gàidhlig Dhùn Èideann
REFRESH-INTERVAL;VALUE=DURATION:PT1H
X-Robots-Tag:noindex
X-PUBLISHED-TTL:PT1H
BEGIN:VTIMEZONE
TZID:UTC
BEGIN:STANDARD
TZOFFSETFROM:+0000
TZOFFSETTO:+0000
TZNAME:UTC
DTSTART:20260101T000000
END:STANDARD
END:VTIMEZONE
BEGIN:VEVENT
DTSTART;TZID=UTC:20260227T193000
DTEND;TZID=UTC:20260227T220000
DTSTAMP:20260423T205753
CREATED:20260126T144129Z
LAST-MODIFIED:20260126T144129Z
UID:612-1772220600-1772229600@snagde.com
SUMMARY:Guid Crack Storytelling Session: To the Gaels with Love
DESCRIPTION:Thigibh còmhla ris an sgeulaiche\, Caroline Carmichael\, gus sgeulachdan is cultar na Gàidhlig a chomharrachadh. Bidh sgeulachdan beairteach is measgaichte mu ghaisgich is creutairean fionn-sgeulach\, a tha air brosnachadh a thoirt do ghinealaichean do sgeulaichean\, luchd-ciùil\, bàird\, is luchd-ealain. Pàirt dhen chluba seanchais mìosail ann an Dùn Èideann\, le àrd-ùrlar fosgailte. Fosgailte dhan a h-uile. \nJoin guest storyteller Caroline Carmichael for a celebration of Gaelic stories and culture. Expect rich and varied tales of warriors and mythical creatures\, which have inspired generations of storytellers\, musicians\, poets and artists. Part of Edinburgh’s monthly storytelling club with the usual open-floor section. Open to Gaelic and non-Gaelic speakers. \nGàidhlig agus Beurla | Gaelic and English \nSaor an-asgaidh | Free
URL:https://snagde.com/event/guid-crack-storytelling-session-to-the-gaels-with-love/
LOCATION:The Waverley Bar\, 3-5 Mary's Street\, Edinburgh\, EH1 1TA
ATTACH;FMTTYPE=image/png:https://snagde.com/wp-content/uploads/2026/01/Guid-Crack-ScottishStorytelling-Centre.png
END:VEVENT
BEGIN:VEVENT
DTSTART;TZID=UTC:20260228T100000
DTEND;TZID=UTC:20260228T160000
DTSTAMP:20260423T205753
CREATED:20260126T144139Z
LAST-MODIFIED:20260220T111550Z
UID:640-1772272800-1772294400@snagde.com
SUMMARY:Cruinn Còmhla
DESCRIPTION:Thigibh Cruinn Còmhla airson latha coimhearsnachd na Gàidhlig air Disathairne 28 Gearran! Bidh fàilte chridheil air a h-uile duine\, le gnìomhachdan airson gach aois agus gach ìre de dh’fhileantas. Glèidhibh àite airson clas Gàidhlig\, no thigibh a-steach airson cafaidh\, geamannan\, còmhradh\, agus seiseanan sònraichte mu chànan agus cultar na Gàidhlig. \nJoin us for our Cruinn Còmhla Gaelic community day on Saturday 28 February! There will be something there for everyone\, whatever your age and stage of Gaelic. Sign up for a Gaelic class\, or just drop in for the café\, games\, conversation\, and sessions on Gaelic language and culture. \nGàidhlig is Beurla | Gaelic and English \nSaor an-asgaidh. Tiocaidean do chlasaichean: £15 (£12). | Free entry. Tickets for classes: £15 (£12). \nFiosrachadh is clàradh airson clasaichean aig / Information and registration for classes at: Làrach-lìn Ionad Gàidhlig Dhùn Èideann 
URL:https://snagde.com/event/cruinn-comhla/
LOCATION:Darroch Annexe\, James Gillespie’s High School\, 7 Gillespie Street\, Edinburgh\, EH3 9NH\, United Kingdom
ATTACH;FMTTYPE=image/png:https://snagde.com/wp-content/uploads/2026/01/Cruinn-Comhla-28.2.26.png
END:VEVENT
BEGIN:VEVENT
DTSTART;TZID=UTC:20260228T150000
DTEND;TZID=UTC:20260228T163000
DTSTAMP:20260423T205753
CREATED:20260126T144150Z
LAST-MODIFIED:20260126T144150Z
UID:615-1772290800-1772296200@snagde.com
SUMMARY:Cànan is Cèic
DESCRIPTION:Thigibh ann airson cabadaich is pìos cèic ann an Thomas J Walls gach Disathairne aig 3f. \nCome along for chat and a wee slice of cake at Thomas J Walls every Saturday at 3pm. \nGàidhlig | Gaelic
URL:https://snagde.com/event/canan-is-ceic/
LOCATION:Thomas J Walls\, Forrest Road\, Edinburgh\, EH1 2QN
END:VEVENT
BEGIN:VEVENT
DTSTART;TZID=UTC:20260228T180000
DTEND;TZID=UTC:20260228T193000
DTSTAMP:20260423T205753
CREATED:20260126T144159Z
LAST-MODIFIED:20260126T144159Z
UID:617-1772301600-1772307000@snagde.com
SUMMARY:Ionnsaich Òran Gàidhlig air loidhne | Learn an Easy Gaelic Song Online
DESCRIPTION:Ionnsaich Òran Gàidhlig: Soraidh Leibh. Bùth-obrach air Zùm. Faclan\, eadar-theangachadh\, fuaimneachas is clàraidhean-fuaime rim faighinn. Tha Linn Phipps air còrr is 60 bùithtean-obrach seinn sa Ghàidhlig a chumail bho Aimeireagaidh gu Èirinn\, Alba\, Sasainn\, An Fhraing is Astràlia\, agus i a’ cur fàilte air iarraidhean! \nLearn a Scottish Gaelic Song: Soraidh Leibh (Goodnight Song). Zoom workshop. Words\, translation\, phonetics\, audio recordings provided. Linn has led over 100 Learn Gaelic Song workshops\, especially online\, from America to Ireland\, Scotland\, England\, France and Australia. Requests welcome! \nGàidhlig is Beurla | Gaelic and English \nSaor an-asgaidh | Free \n18:15-19:15 \nPost-d airson feòrachadh / Email for enquiries: LLPhipps@aol.com
URL:https://snagde.com/event/ionnsaich-oran-gaidhlig-air-loidhne-learn-an-easy-gaelic-song-online/
LOCATION:Online
END:VEVENT
BEGIN:VEVENT
DTSTART;TZID=UTC:20260301T123000
DTEND;TZID=UTC:20260301T133000
DTSTAMP:20260423T205753
CREATED:20260126T144211Z
LAST-MODIFIED:20260126T144211Z
UID:620-1772368200-1772371800@snagde.com
SUMMARY:Seirbheis Ghàidhlig | Gaelic Service
DESCRIPTION:Bidh Seirbheis Ghàidhlig ga cumail gach Didòmhnaich. \nA Gaelic Service is held every Sunday. \nGàidhlig | Gaelic
URL:https://snagde.com/event/seirbheis-ghaidhlig-gaelic-service/
LOCATION:Greyfriars Kirk\, Greyfriars Place\, Edinburgh\, EH1 2QQ
END:VEVENT
BEGIN:VEVENT
DTSTART;TZID=UTC:20260301T123000
DTEND;TZID=UTC:20260301T140000
DTSTAMP:20260423T205753
CREATED:20260126T144220Z
LAST-MODIFIED:20260126T144220Z
UID:643-1772368200-1772373600@snagde.com
SUMMARY:Easy Sundays: Còisir Ghàidhlig Lodainn | Easy Sundays: Lothian Gaelic Choir
DESCRIPTION:Thig còmhla ri Còisir Ghàidhlig Lodainn airson taisbeanadh “pop-up” anns an Storytelling Court\, àite càirdeil agus snog\, gus Seachdain na Gàidhlig a chomharrachadh. Tòisichidh na cuirmean-ciùil aig 12.30 agus 1.30f. \nJoin the Lothian Gaelic Choir for a pop-up performance in the relaxed surroundings of the Storytelling Court to celebrate Seachdain na Gàidhlig 2026 (World Gaelic Week). Performances start at 12.30 and 1.30pm. \n12:30-13:00 agus/and 13:30-14:00 \nIonad Nàiseanta nan Sgeulachdan / Scottish Storytelling Centre
URL:https://snagde.com/event/easy-sundays-coisir-ghaidhlig-lodainn-easy-sundays-lothian-gaelic-choir/
LOCATION:Scottish Storytelling Centre\, 43-45 High Street\, Edinburgh\, EH1 1SR\, United Kingdom
ATTACH;FMTTYPE=image/png:https://snagde.com/wp-content/uploads/2026/01/Lothian-Gaelic-Choir.png
END:VEVENT
END:VCALENDAR